BEGIN:VCALENDAR
VERSION:2.0
PRODID:-//Devoted Ohio - ECPv6.15.20//NONSGML v1.0//EN
CALSCALE:GREGORIAN
METHOD:PUBLISH
X-ORIGINAL-URL:https://devotedweddingsohio.com
X-WR-CALDESC:Events for Devoted Ohio
REFRESH-INTERVAL;VALUE=DURATION:PT1H
X-Robots-Tag:noindex
X-PUBLISHED-TTL:PT1H
BEGIN:VTIMEZONE
TZID:America/Detroit
BEGIN:DAYLIGHT
TZOFFSETFROM:-0500
TZOFFSETTO:-0400
TZNAME:EDT
DTSTART:20250309T070000
END:DAYLIGHT
BEGIN:STANDARD
TZOFFSETFROM:-0400
TZOFFSETTO:-0500
TZNAME:EST
DTSTART:20251102T060000
END:STANDARD
BEGIN:DAYLIGHT
TZOFFSETFROM:-0500
TZOFFSETTO:-0400
TZNAME:EDT
DTSTART:20260308T070000
END:DAYLIGHT
BEGIN:STANDARD
TZOFFSETFROM:-0400
TZOFFSETTO:-0500
TZNAME:EST
DTSTART:20261101T060000
END:STANDARD
BEGIN:DAYLIGHT
TZOFFSETFROM:-0500
TZOFFSETTO:-0400
TZNAME:EDT
DTSTART:20270314T070000
END:DAYLIGHT
BEGIN:STANDARD
TZOFFSETFROM:-0400
TZOFFSETTO:-0500
TZNAME:EST
DTSTART:20271107T060000
END:STANDARD
END:VTIMEZONE
BEGIN:VEVENT
DTSTART;TZID=America/Detroit:20260813T180000
DTEND;TZID=America/Detroit:20260813T203000
DTSTAMP:20260421T173933
CREATED:20260327T231247Z
LAST-MODIFIED:20260327T231247Z
UID:365257-1786644000-1786653000@devotedweddingsohio.com
SUMMARY:Devoted Wedding Pros Networking Event | August 2026
DESCRIPTION:Come mingle\, sip\, and nibble as we get to know each other and build relationships that can lead to referrals and collaborations. \nOur venue and hosts: \nJoin us next month at Fred Astaire Westerville for our upcoming networking event! \nThe Food: Complimentary Appetizers \nThe Drinks:  TBD \nThe Education: Dance Lessons \nTickets at the door: $35.00 \nAdvanced tickets: $30.00 \nMembers are free (Annual Membership Link) \nWe hope to see you there! \nGet your tickets here!
URL:https://devotedweddingsohio.com/event/devoted-wedding-pros-networking-event-3/
LOCATION:Fred Astaire Westerville\, 101 Westerville Plaza\, Westerville\, Ohio\, 43081
CATEGORIES:Networking Event
ATTACH;FMTTYPE=image/png:https://devotedweddingsohio.com/wp-content/uploads/2026/03/Screenshot-2026-03-27-185921.png
END:VEVENT
END:VCALENDAR