BEGIN:VCALENDAR
VERSION:2.0
PRODID:-//Devoted Ohio - ECPv6.15.20//NONSGML v1.0//EN
CALSCALE:GREGORIAN
METHOD:PUBLISH
X-WR-CALNAME:Devoted Ohio
X-ORIGINAL-URL:https://devotedweddingsohio.com
X-WR-CALDESC:Events for Devoted Ohio
REFRESH-INTERVAL;VALUE=DURATION:PT1H
X-Robots-Tag:noindex
X-PUBLISHED-TTL:PT1H
BEGIN:VTIMEZONE
TZID:America/Detroit
BEGIN:DAYLIGHT
TZOFFSETFROM:-0500
TZOFFSETTO:-0400
TZNAME:EDT
DTSTART:20240310T070000
END:DAYLIGHT
BEGIN:STANDARD
TZOFFSETFROM:-0400
TZOFFSETTO:-0500
TZNAME:EST
DTSTART:20241103T060000
END:STANDARD
BEGIN:DAYLIGHT
TZOFFSETFROM:-0500
TZOFFSETTO:-0400
TZNAME:EDT
DTSTART:20250309T070000
END:DAYLIGHT
BEGIN:STANDARD
TZOFFSETFROM:-0400
TZOFFSETTO:-0500
TZNAME:EST
DTSTART:20251102T060000
END:STANDARD
BEGIN:DAYLIGHT
TZOFFSETFROM:-0500
TZOFFSETTO:-0400
TZNAME:EDT
DTSTART:20260308T070000
END:DAYLIGHT
BEGIN:STANDARD
TZOFFSETFROM:-0400
TZOFFSETTO:-0500
TZNAME:EST
DTSTART:20261101T060000
END:STANDARD
END:VTIMEZONE
BEGIN:VEVENT
DTSTART;TZID=America/Detroit:20251007T173000
DTEND;TZID=America/Detroit:20251007T193000
DTSTAMP:20260422T051933
CREATED:20251002T151357Z
LAST-MODIFIED:20251002T151701Z
UID:364566-1759858200-1759865400@devotedweddingsohio.com
SUMMARY:The Stables at Arrowhead Lake Open House- Cleveland
DESCRIPTION:Whether you just said “yes” or you’re counting down to your big day\, our First Tuesday Open House is the perfect chance to bring your vision to life. Love is in the air at The Stables \n\nTuesday\, October 7\, 2025 | 5:30–7:30 PM\n\n\nWhether you’re newly engaged and searching for the venue or already booked and ready to finalize details\, this evening was made for you.\n• Explore the bridal + groom suites and showroom\n• Meet trusted vendors and gather inspiration\n• Chat with our team about your dream day\n• Secure your date before it’s gone\n\nBring your fiancé\, family\, or wedding crew and experience the magic of The Stables!
URL:https://devotedweddingsohio.com/event/the-stables-at-arrowhead-lake-open-house-cleveland/
LOCATION:The Stables at Arrowhead Lake\, 11665 State Route 39\, Millersburg\, OH\, 44654\, United States
CATEGORIES:Public Event
ATTACH;FMTTYPE=image/jpeg:https://devotedweddingsohio.com/wp-content/uploads/2025/10/The-Stables.jpg
ORGANIZER;CN="The Stables at Arrowhead Lake":MAILTO:events@stablesatarrowheadlake.com
END:VEVENT
END:VCALENDAR