BEGIN:VCALENDAR
VERSION:2.0
PRODID:-//Devoted Ohio - ECPv6.15.20//NONSGML v1.0//EN
CALSCALE:GREGORIAN
METHOD:PUBLISH
X-WR-CALNAME:Devoted Ohio
X-ORIGINAL-URL:https://devotedweddingsohio.com
X-WR-CALDESC:Events for Devoted Ohio
REFRESH-INTERVAL;VALUE=DURATION:PT1H
X-Robots-Tag:noindex
X-PUBLISHED-TTL:PT1H
BEGIN:VTIMEZONE
TZID:America/Detroit
BEGIN:DAYLIGHT
TZOFFSETFROM:-0500
TZOFFSETTO:-0400
TZNAME:EDT
DTSTART:20250309T070000
END:DAYLIGHT
BEGIN:STANDARD
TZOFFSETFROM:-0400
TZOFFSETTO:-0500
TZNAME:EST
DTSTART:20251102T060000
END:STANDARD
BEGIN:DAYLIGHT
TZOFFSETFROM:-0500
TZOFFSETTO:-0400
TZNAME:EDT
DTSTART:20260308T070000
END:DAYLIGHT
BEGIN:STANDARD
TZOFFSETFROM:-0400
TZOFFSETTO:-0500
TZNAME:EST
DTSTART:20261101T060000
END:STANDARD
BEGIN:DAYLIGHT
TZOFFSETFROM:-0500
TZOFFSETTO:-0400
TZNAME:EDT
DTSTART:20270314T070000
END:DAYLIGHT
BEGIN:STANDARD
TZOFFSETFROM:-0400
TZOFFSETTO:-0500
TZNAME:EST
DTSTART:20271107T060000
END:STANDARD
END:VTIMEZONE
BEGIN:VEVENT
DTSTART;TZID=America/Detroit:20261112T180000
DTEND;TZID=America/Detroit:20261112T203000
DTSTAMP:20260423T122912
CREATED:20260415T135153Z
LAST-MODIFIED:20260415T135153Z
UID:365266-1794506400-1794515400@devotedweddingsohio.com
SUMMARY:Devoted Wedding Pros Networking Event | November 2026
DESCRIPTION:Come mingle\, sip\, and nibble as we get to know each other and build relationships that can lead to referrals and collaborations. \nOur venue and hosts: \nJoin us at Cut 132  for our upcoming networking event! \nFood: Appetizers \nDrinks:  Cash bar\, complimentary Non Alcoholic Drinks and Coffee \nEducation: TBD \nOur Member Spotlight: TBD \nTicket Info:  Advanced tickets $30.00\, tickets at the door: $35.00 \nMembers are free (Annual Membership Link) \nWe hope to see you there! \nGet your tickets here! \n 
URL:https://devotedweddingsohio.com/event/devoted-wedding-pros-networking-event-november-2026/
LOCATION:Cut 132\, 4188 Brighton Rose Way\, Columbus\, Ohio\, 43219
CATEGORIES:Networking Event
ATTACH;FMTTYPE=image/jpeg:https://devotedweddingsohio.com/wp-content/uploads/2026/04/20230118101027_900xx4000-2250-0-375.jpg
ORGANIZER;CN="Devoted Weddings Ohio":MAILTO:info@devotedweddings.com
END:VEVENT
END:VCALENDAR